BEGIN:VCALENDAR
VERSION:2.0
PRODID:-//OceanWorks Productions - ECPv6.15.20//NONSGML v1.0//EN
CALSCALE:GREGORIAN
METHOD:PUBLISH
X-WR-CALNAME:OceanWorks Productions
X-ORIGINAL-URL:https://www.oceanworksproductions.com
X-WR-CALDESC:Events for OceanWorks Productions
REFRESH-INTERVAL;VALUE=DURATION:PT1H
X-Robots-Tag:noindex
X-PUBLISHED-TTL:PT1H
BEGIN:VTIMEZONE
TZID:America/Los_Angeles
BEGIN:DAYLIGHT
TZOFFSETFROM:-0800
TZOFFSETTO:-0700
TZNAME:PDT
DTSTART:20250309T100000
END:DAYLIGHT
BEGIN:STANDARD
TZOFFSETFROM:-0700
TZOFFSETTO:-0800
TZNAME:PST
DTSTART:20251102T090000
END:STANDARD
BEGIN:DAYLIGHT
TZOFFSETFROM:-0800
TZOFFSETTO:-0700
TZNAME:PDT
DTSTART:20260308T100000
END:DAYLIGHT
BEGIN:STANDARD
TZOFFSETFROM:-0700
TZOFFSETTO:-0800
TZNAME:PST
DTSTART:20261101T090000
END:STANDARD
BEGIN:DAYLIGHT
TZOFFSETFROM:-0800
TZOFFSETTO:-0700
TZNAME:PDT
DTSTART:20270314T100000
END:DAYLIGHT
BEGIN:STANDARD
TZOFFSETFROM:-0700
TZOFFSETTO:-0800
TZNAME:PST
DTSTART:20271107T090000
END:STANDARD
END:VTIMEZONE
BEGIN:VEVENT
DTSTART;TZID=America/Los_Angeles:20260702T183000
DTEND;TZID=America/Los_Angeles:20260702T200000
DTSTAMP:20260423T070155
CREATED:20260420T204858Z
LAST-MODIFIED:20260420T204858Z
UID:1434-1783017000-1783022400@www.oceanworksproductions.com
SUMMARY:Funk Shui Band
DESCRIPTION:An OceanWorks Co-Production Event Irresistible Funk/R&B/Soul Dance Band \nBest known as local Sacramento entertainers\, Funk Shui Band and their sound have developed and grown in popularity since 2016. Influenced by the Funk/R&B/Soul/Dance culture\, they perform music that speaks to all fans across the musical spectrum. Their signature harmonies and high energy percussive groove styles have made their fan base grow with every show. They have a very diverse collection of melodies and compositions and continually add new material. \nThe 37th Annual Music and Market Series — Summer 2026 \nJuly 2\, 2026 at 6:30pm \nTodos Santos Plaza\n2175 Willow Pass Rd.\nConcord\, CA
URL:https://www.oceanworksproductions.com/event/funk-shui-band/
LOCATION:Todos Santos Plaza\, 2175 Willow Pass Rd\, Concord\, CA\, 94520\, United States
CATEGORIES:An OceanWorks Co-Production
ATTACH;FMTTYPE=image/avif:https://www.oceanworksproductions.com/wp-content/uploads/2026/04/funkshuiband.avif
END:VEVENT
END:VCALENDAR