BEGIN:VCALENDAR
VERSION:2.0
PRODID:-//OceanWorks Productions - ECPv6.15.20//NONSGML v1.0//EN
CALSCALE:GREGORIAN
METHOD:PUBLISH
X-WR-CALNAME:OceanWorks Productions
X-ORIGINAL-URL:https://www.oceanworksproductions.com
X-WR-CALDESC:Events for OceanWorks Productions
REFRESH-INTERVAL;VALUE=DURATION:PT1H
X-Robots-Tag:noindex
X-PUBLISHED-TTL:PT1H
BEGIN:VTIMEZONE
TZID:America/Los_Angeles
BEGIN:DAYLIGHT
TZOFFSETFROM:-0800
TZOFFSETTO:-0700
TZNAME:PDT
DTSTART:20250309T100000
END:DAYLIGHT
BEGIN:STANDARD
TZOFFSETFROM:-0700
TZOFFSETTO:-0800
TZNAME:PST
DTSTART:20251102T090000
END:STANDARD
BEGIN:DAYLIGHT
TZOFFSETFROM:-0800
TZOFFSETTO:-0700
TZNAME:PDT
DTSTART:20260308T100000
END:DAYLIGHT
BEGIN:STANDARD
TZOFFSETFROM:-0700
TZOFFSETTO:-0800
TZNAME:PST
DTSTART:20261101T090000
END:STANDARD
BEGIN:DAYLIGHT
TZOFFSETFROM:-0800
TZOFFSETTO:-0700
TZNAME:PDT
DTSTART:20270314T100000
END:DAYLIGHT
BEGIN:STANDARD
TZOFFSETFROM:-0700
TZOFFSETTO:-0800
TZNAME:PST
DTSTART:20271107T090000
END:STANDARD
END:VTIMEZONE
BEGIN:VEVENT
DTSTART;TZID=America/Los_Angeles:20260604T183000
DTEND;TZID=America/Los_Angeles:20260604T200000
DTSTAMP:20260423T084640
CREATED:20260420T192639Z
LAST-MODIFIED:20260420T201607Z
UID:1426-1780597800-1780603200@www.oceanworksproductions.com
SUMMARY:Andre Thierry
DESCRIPTION:An OceanWorks Co-Production Event Cajun\, Zydeco and Soul. \nAndre Thierry’s music creations are intoxicating and timeless. Enjoy the unfolding of this charismatic artist as he vibrates Accordion Soul\, raising the frequency with stimulating beats\, attracting any music lover to the dance floor! \nThe 37th Annual Music and Market Series — Summer 2026 \nJune 4\, 2026 at 6:30pm \nTodos Santos Plaza\n2175 Willow Pass Rd.\nConcord\, CA
URL:https://www.oceanworksproductions.com/event/andre-thierry/
LOCATION:Todos Santos Plaza\, 2175 Willow Pass Rd\, Concord\, CA\, 94520\, United States
CATEGORIES:An OceanWorks Co-Production
ATTACH;FMTTYPE=image/webp:https://www.oceanworksproductions.com/wp-content/uploads/2026/04/andrethierry.webp
END:VEVENT
BEGIN:VEVENT
DTSTART;TZID=America/Los_Angeles:20260611T183000
DTEND;TZID=America/Los_Angeles:20260611T200000
DTSTAMP:20260423T084640
CREATED:20260420T201147Z
LAST-MODIFIED:20260420T201147Z
UID:1428-1781202600-1781208000@www.oceanworksproductions.com
SUMMARY:Dead & Breakfast
DESCRIPTION:An OceanWorks Co-Production Event Grateful Dead Tribute \nSong-first\, high-energy Dead tribute — shining a light on the Band\, Beatles\, and soul roots in the catalog. \nThe 37th Annual Music and Market Series — Summer 2026 \nJune 11\, 2026 at 6:30pm \nTodos Santos Plaza\n2175 Willow Pass Rd.\nConcord\, CA
URL:https://www.oceanworksproductions.com/event/dead-and-breakfast/
LOCATION:Todos Santos Plaza\, 2175 Willow Pass Rd\, Concord\, CA\, 94520\, United States
CATEGORIES:An OceanWorks Co-Production
ATTACH;FMTTYPE=image/webp:https://www.oceanworksproductions.com/wp-content/uploads/2026/04/deadandbreakfast.webp
END:VEVENT
BEGIN:VEVENT
DTSTART;TZID=America/Los_Angeles:20260618T183000
DTEND;TZID=America/Los_Angeles:20260618T200000
DTSTAMP:20260423T084640
CREATED:20260420T202515Z
LAST-MODIFIED:20260420T202941Z
UID:1430-1781807400-1781812800@www.oceanworksproductions.com
SUMMARY:Neon Velvet
DESCRIPTION:An OceanWorks Co-Production Event High Energy Dance Party \nNeon Velvet – high-energy dance party band performing hits from the ’70s to today\, bringing unforgettable shows to clubs\, festivals\, weddings\, and corporate events worldwide. \nThe 37th Annual Music and Market Series — Summer 2026 \nJune 18\, 2026 at 6:30pm \nTodos Santos Plaza\n2175 Willow Pass Rd.\nConcord\, CA
URL:https://www.oceanworksproductions.com/event/neon-velvet/
LOCATION:Todos Santos Plaza\, 2175 Willow Pass Rd\, Concord\, CA\, 94520\, United States
CATEGORIES:An OceanWorks Co-Production
ATTACH;FMTTYPE=image/webp:https://www.oceanworksproductions.com/wp-content/uploads/2026/04/neon-velvet.webp
END:VEVENT
BEGIN:VEVENT
DTSTART;TZID=America/Los_Angeles:20260625T183000
DTEND;TZID=America/Los_Angeles:20260625T200000
DTSTAMP:20260423T084640
CREATED:20260420T203915Z
LAST-MODIFIED:20260420T203915Z
UID:1432-1782412200-1782417600@www.oceanworksproductions.com
SUMMARY:Tommy Castro and the Painkillers
DESCRIPTION:An OceanWorks Co-Production Event CA’s Blues & Rock Sensation \nMultiple award-winning\, California-based blues and rock sensation Tommy Castro is the guitar slinging\, soul-singing leader of the telepathically tight and wildly raucous Tommy Castro and The Painkillers. \nThe 37th Annual Music and Market Series — Summer 2026 \nJune 25\, 2026 at 6:30pm \nTodos Santos Plaza\n2175 Willow Pass Rd.\nConcord\, CA
URL:https://www.oceanworksproductions.com/event/tommy-castro-the-painkillers/
LOCATION:Todos Santos Plaza\, 2175 Willow Pass Rd\, Concord\, CA\, 94520\, United States
CATEGORIES:An OceanWorks Co-Production
ATTACH;FMTTYPE=image/webp:https://www.oceanworksproductions.com/wp-content/uploads/2026/04/tommycastroandthepainkillers.webp
END:VEVENT
END:VCALENDAR