BEGIN:VCALENDAR
VERSION:2.0
PRODID:-//OceanWorks Productions - ECPv6.15.20//NONSGML v1.0//EN
CALSCALE:GREGORIAN
METHOD:PUBLISH
X-ORIGINAL-URL:https://www.oceanworksproductions.com
X-WR-CALDESC:Events for OceanWorks Productions
REFRESH-INTERVAL;VALUE=DURATION:PT1H
X-Robots-Tag:noindex
X-PUBLISHED-TTL:PT1H
BEGIN:VTIMEZONE
TZID:America/Los_Angeles
BEGIN:DAYLIGHT
TZOFFSETFROM:-0800
TZOFFSETTO:-0700
TZNAME:PDT
DTSTART:20250309T100000
END:DAYLIGHT
BEGIN:STANDARD
TZOFFSETFROM:-0700
TZOFFSETTO:-0800
TZNAME:PST
DTSTART:20251102T090000
END:STANDARD
BEGIN:DAYLIGHT
TZOFFSETFROM:-0800
TZOFFSETTO:-0700
TZNAME:PDT
DTSTART:20260308T100000
END:DAYLIGHT
BEGIN:STANDARD
TZOFFSETFROM:-0700
TZOFFSETTO:-0800
TZNAME:PST
DTSTART:20261101T090000
END:STANDARD
BEGIN:DAYLIGHT
TZOFFSETFROM:-0800
TZOFFSETTO:-0700
TZNAME:PDT
DTSTART:20270314T100000
END:DAYLIGHT
BEGIN:STANDARD
TZOFFSETFROM:-0700
TZOFFSETTO:-0800
TZNAME:PST
DTSTART:20271107T090000
END:STANDARD
END:VTIMEZONE
BEGIN:VEVENT
DTSTART;TZID=America/Los_Angeles:20260425T120000
DTEND;TZID=America/Los_Angeles:20260425T160000
DTSTAMP:20260425T051743
CREATED:20260311T181824Z
LAST-MODIFIED:20260312T171907Z
UID:1394-1777118400-1777132800@www.oceanworksproductions.com
SUMMARY:The Jim Ocean Trio at Santa Rosa Earth Day
DESCRIPTION:A “JIM OCEAN MUSIC” EVENT \nThe Jim Ocean Trio\nEnvironmentally-themed Folk Rock \nThe Jim Ocean Trio will perform songs from their album\, FrankenClime — a satirical rock ‘n’ roll monster mash with in-your-face energy and contagious hooks that underscore the environmental challenges of the times. \nThe Jim Ocean Trio performs from 1:15 – 1:45pm.
URL:https://www.oceanworksproductions.com/event/the-jim-ocean-trio-at-santa-rosa-earth-day/
LOCATION:Old Courthouse Square\, Santa Rosa\, CA\, 95404\, United States
CATEGORIES:A “Jim Ocean Music” Production
ATTACH;FMTTYPE=image/webp:https://www.oceanworksproductions.com/wp-content/uploads/2026/03/jim-ocean-trio-santarosa.webp
END:VEVENT
BEGIN:VEVENT
DTSTART;TZID=America/Los_Angeles:20260515T130000
DTEND;TZID=America/Los_Angeles:20260515T160000
DTSTAMP:20260425T051743
CREATED:20260203T204514Z
LAST-MODIFIED:20260416T212246Z
UID:1339-1778850000-1778860800@www.oceanworksproductions.com
SUMMARY:The Words & Music of "John Lennon’s Glasses"
DESCRIPTION:A “JOHN LENNON’S GLASSES” EVENT: Equal parts concert\, Storytime\, and rock ’n’ roll séance\, The Words & Music of John Lennon’s Glasses is a live-music infused readers’ theater experience unlike any other. Jim and Kathy Ocean take the stage with guitars\, voices\, and the spirit of their novel\, John Lennon’s Glasses—a surreal\, music-soaked adventure that reimagines what might happen if Lennon’s vision for the world didn’t end in 1980. \nThrough a blend of live readings and original songs—woven directly from the novel’s plot—plus a few timeless Beatles classics\, they create an immersive experience that bridges music\, storytelling\, and imagination. \nIt’s a funny\, poignant\, and deeply musical celebration of creativity and connection that taps into nostalgia while stepping boldly into new territory. With the Oceans\, you’re not just hearing a concert or attending a reading\, you’re joining a journey where music becomes the map\, and a pair of glasses changes everything.
URL:https://www.oceanworksproductions.com/event/the-words-music-of-john-lennons-glasses-3/
LOCATION:Russian River Senior Center\, 16390 Main St\, Guerneville\, CA\, 95446\, United States
CATEGORIES:A "John Lennon's Glasses" Event,A “Jim Ocean Music” Production
ATTACH;FMTTYPE=image/jpeg:https://www.oceanworksproductions.com/wp-content/uploads/2025/07/Graphic_Calendar-Thumbnail_WMJLG_V2.jpeg
ORGANIZER;CN="Jim and Kathy Ocean":MAILTO:info@oceanworksproductions.com
END:VEVENT
BEGIN:VEVENT
DTSTART;TZID=America/Los_Angeles:20260624T160000
DTEND;TZID=America/Los_Angeles:20260624T180000
DTSTAMP:20260425T051743
CREATED:20260120T211410Z
LAST-MODIFIED:20260211T170602Z
UID:1327-1782316800-1782324000@www.oceanworksproductions.com
SUMMARY:The Jim Ocean Band at Luigi’s
DESCRIPTION:A “JIM OCEAN MUSIC” EVENT:  The Jim Ocean Band looks forward to dishing up a selection of their original thought-rock for your listening pleasure! \nWednesday\, June 24\, 2026 \nLuigi’s Deli Martinez\n4 – 6 PM \n$10 Donation \nA Production of Scotty’s Listening Room
URL:https://www.oceanworksproductions.com/event/the-jim-ocean-band-at-luigis/
LOCATION:Luigi’s in Martinez\, 537 Main Street\, Martinez\, CA\, 94553\, United States
CATEGORIES:A “Jim Ocean Music” Production,JOB,JOM
ATTACH;FMTTYPE=image/webp:https://www.oceanworksproductions.com/wp-content/uploads/2026/01/JOB-Hands-HiRes.webp
END:VEVENT
BEGIN:VEVENT
DTSTART;VALUE=DATE:20260711
DTEND;VALUE=DATE:20260712
DTSTAMP:20260425T051743
CREATED:20260312T205500Z
LAST-MODIFIED:20260312T205555Z
UID:1397-1783728000-1783814399@www.oceanworksproductions.com
SUMMARY:High Rio Music on the Green
DESCRIPTION:A “JIM OCEAN MUSIC” EVENT: High Rio 2026 isn’t just a grassroots music festival — it’s a Russian River fever dream stitched together with guitar strings and sunbeams. Day 1 is for the music: guitars ringing through the redwoods\, food crackling on the grill\, kids running wild in the grass\, the whole town humming like somebody spiked the sunshine. \nBare feet\, cold drinks\, dancing with strangers\, maybe a little smooching under the trees — the whole glorious mess of summer in Monte Rio\, exactly how it oughta be. \nDay 2\, we take it to the water: a community rafting trip down the Russian River\, floating slow with your people\, laughing too loud\, waving at the banks like river royalty while Sasquatch himself lurks nearby — hairy\, mysterious\, and probably holding a beer. \nIt’s music\, it’s community\, it’s small-town magic with a little fog on it. Every ticket helps keep the spirit alive. Every song\, every paddle stroke\, every sunburnt smile is a love letter to Monte Rio. So grab your crew\, your weird aunt\, your river shoes\, your tambourine\, and your best feral energy and head down to The Monte Rio Theater & Extravaganza. \nHigh Rio’s calling\, and we ain’t leaving no voicemail. \nJuly 11\, 2026 at 12PM
URL:https://www.oceanworksproductions.com/event/high-rio-festival/
LOCATION:Monte Rio Theater\, 20396 Bohemian Hwy\, Monte Rio\, CA\, 95462\, United States
CATEGORIES:A “Jim Ocean Music” Production
ATTACH;FMTTYPE=image/webp:https://www.oceanworksproductions.com/wp-content/uploads/2026/03/HighRio-2026.webp
END:VEVENT
BEGIN:VEVENT
DTSTART;TZID=America/Los_Angeles:20261104T183000
DTEND;TZID=America/Los_Angeles:20261104T203000
DTSTAMP:20260425T051743
CREATED:20260203T194955Z
LAST-MODIFIED:20260211T170009Z
UID:1328-1793817000-1793824200@www.oceanworksproductions.com
SUMMARY:Jim Ocean’s Annual Birthday Concert
DESCRIPTION:A “JIM OCEAN MUSIC” EVENT: A celebration for the band’s November baby and the Band’s resident Scorpio! We look forward to dishing up a selection of our original thought-rock fare along with a few tasty covers for your listening and cupcake eating pleasure! \nWednesday\, November 4 \nLuigi’s Deli Martinez\n6:30 PM \n$10 Donation \nA Production of Scotty’s Listening Room
URL:https://www.oceanworksproductions.com/event/jim-oceans-annual-birthday-concert/
LOCATION:Luigi’s in Martinez\, 537 Main Street\, Martinez\, CA\, 94553\, United States
CATEGORIES:A “Jim Ocean Music” Production
ATTACH;FMTTYPE=image/webp:https://www.oceanworksproductions.com/wp-content/uploads/2026/02/JimVaderBirthdayBash.webp
END:VEVENT
END:VCALENDAR