BEGIN:VCALENDAR
VERSION:2.0
PRODID:-//OceanWorks Productions - ECPv6.15.20//NONSGML v1.0//EN
CALSCALE:GREGORIAN
METHOD:PUBLISH
X-WR-CALNAME:OceanWorks Productions
X-ORIGINAL-URL:https://www.oceanworksproductions.com
X-WR-CALDESC:Events for OceanWorks Productions
REFRESH-INTERVAL;VALUE=DURATION:PT1H
X-Robots-Tag:noindex
X-PUBLISHED-TTL:PT1H
BEGIN:VTIMEZONE
TZID:America/Los_Angeles
BEGIN:DAYLIGHT
TZOFFSETFROM:-0800
TZOFFSETTO:-0700
TZNAME:PDT
DTSTART:20240310T100000
END:DAYLIGHT
BEGIN:STANDARD
TZOFFSETFROM:-0700
TZOFFSETTO:-0800
TZNAME:PST
DTSTART:20241103T090000
END:STANDARD
BEGIN:DAYLIGHT
TZOFFSETFROM:-0800
TZOFFSETTO:-0700
TZNAME:PDT
DTSTART:20250309T100000
END:DAYLIGHT
BEGIN:STANDARD
TZOFFSETFROM:-0700
TZOFFSETTO:-0800
TZNAME:PST
DTSTART:20251102T090000
END:STANDARD
BEGIN:DAYLIGHT
TZOFFSETFROM:-0800
TZOFFSETTO:-0700
TZNAME:PDT
DTSTART:20260308T100000
END:DAYLIGHT
BEGIN:STANDARD
TZOFFSETFROM:-0700
TZOFFSETTO:-0800
TZNAME:PST
DTSTART:20261101T090000
END:STANDARD
END:VTIMEZONE
BEGIN:VTIMEZONE
TZID:UTC
BEGIN:STANDARD
TZOFFSETFROM:+0000
TZOFFSETTO:+0000
TZNAME:UTC
DTSTART:20240101T000000
END:STANDARD
END:VTIMEZONE
BEGIN:VEVENT
DTSTART;TZID=America/Los_Angeles:20250918T183000
DTEND;TZID=America/Los_Angeles:20250918T200000
DTSTAMP:20260425T205210
CREATED:20250528T220018Z
LAST-MODIFIED:20250916T151506Z
UID:868-1758220200-1758225600@www.oceanworksproductions.com
SUMMARY:Annie Sampson
DESCRIPTION:A “Community Concerts” Production: \nConcord’s own Queen of Blues and Soul\nThe love of music pervades every note Annie Sampson sings. The youngest of 12 children\, her early years were spent in the fertile musical climate of rural Louisiana surrounded by a family of teachers and ministers who sang together as a way of life. Her special gifts were first recognized at age five when she won a church talent show. Annie has continued to electrify\, move and delight audiences ever since. \nThe 36th Annual Music and Market Series — Summer 2025 \nTodos Santos Park\n2175 Willow Pass Rd.\nConcord\, CA \nSeptember 18\, 2025\n6:30pm – 8:00pm
URL:https://www.oceanworksproductions.com/event/annie-sampson/
LOCATION:Todos Santos Plaza\, 2175 Willow Pass Rd\, Concord\, CA\, 94520\, United States
CATEGORIES:An OceanWorks Co-Production
ATTACH;FMTTYPE=image/gif:https://www.oceanworksproductions.com/wp-content/uploads/2025/05/Annie-head-shot12.gif
END:VEVENT
BEGIN:VEVENT
DTSTART;TZID=America/Los_Angeles:20250911T183000
DTEND;TZID=America/Los_Angeles:20250911T200000
DTSTAMP:20260425T205210
CREATED:20250528T214149Z
LAST-MODIFIED:20250709T223849Z
UID:866-1757615400-1757620800@www.oceanworksproductions.com
SUMMARY:STRANGE DAZE
DESCRIPTION:The Music of THE DOORS\nFronted by vocalist Max Schimm\, Strange Daze brings accurate renditions of The Doors’ tunes\, featuring all of the hits as well as B-sides and Deep Cuts. With Bruce Gordon – keys\, Jason Krist – guitar\, Michael Gay – drums and John Arntz – bass\, this tight band is able to bring back memories from that bygone era when Morrison stalked the stage. \nThe 36th Annual Music and Market Series — Summer 2025 \nTodos Santos Park\n2175 Willow Pass Rd.\nConcord\, CA \nSeptember 11\, 2025\n6:30pm – 8:00pm
URL:https://www.oceanworksproductions.com/event/strange-daze/
LOCATION:Todos Santos Plaza\, 2175 Willow Pass Rd\, Concord\, CA\, 94520\, United States
CATEGORIES:An OceanWorks Co-Production
ATTACH;FMTTYPE=image/jpeg:https://www.oceanworksproductions.com/wp-content/uploads/2025/05/strange-daze-band1.jpg
END:VEVENT
BEGIN:VEVENT
DTSTART;TZID=America/Los_Angeles:20250904T183000
DTEND;TZID=America/Los_Angeles:20250904T200000
DTSTAMP:20260425T205210
CREATED:20250528T212310Z
LAST-MODIFIED:20250709T223952Z
UID:864-1757010600-1757016000@www.oceanworksproductions.com
SUMMARY:Native Elements
DESCRIPTION:The Bay Area’s Best Reggae Band including a nod to Bob Marley\nSan Francisco powerhouse\, Native Elements has been keeping the energetic\, feel-good reggae tradition alive in the Bay Area for over 19 years. Comprised of 10 seasoned musicians with decades of experience in rock\, metal\, blues\, jazz\, r&b and hip hop\, this eclectic and fearless crew meld their unique influences into a contemporary\, melodic horn-driven party taking their listeners through improvisational peaks and valleys from blazing guitar to soaring saxophone wails. \nThe 36th Annual Music and Market Series — Summer 2025 \nTodos Santos Park\n2175 Willow Pass Rd.\nConcord\, CA \nSeptember 4\, 2025\n6:30pm – 8:00pm
URL:https://www.oceanworksproductions.com/event/native-elements/
LOCATION:Todos Santos Plaza\, 2175 Willow Pass Rd\, Concord\, CA\, 94520\, United States
CATEGORIES:An OceanWorks Co-Production
ATTACH;FMTTYPE=image/jpeg:https://www.oceanworksproductions.com/wp-content/uploads/2025/05/native-elements.jpg
END:VEVENT
BEGIN:VEVENT
DTSTART;TZID=America/Los_Angeles:20250904T180000
DTEND;TZID=America/Los_Angeles:20250904T210000
DTSTAMP:20260425T205210
CREATED:20250616T165455Z
LAST-MODIFIED:20250818T200233Z
UID:912-1757008800-1757019600@www.oceanworksproductions.com
SUMMARY:Rockin' The River
DESCRIPTION:Rockin’ the River’s 14th annual high octane concert series at the historic Guerneville Plaza returns for one music-filled night on Thursday\, September 4th. \nA family-friendly\, dancin’-in-the-street party\, Rockin’ the River kicks off at 6:00pm with the hot chops of the Ryan Woodard Band whose repertoire includes a bit of something for everyone\, followed at 7:00pm by the Mike & Pat Show (of Guerneville’s beloved Fargo Brothers). The Traveling Wilburys Revue will take the stage from 7:30 to 9pm playing their superb renditions of the Wilburys hits as well as the best of George Harrison\, Bob Dylan\, Roy Orbison\, Tom Petty and Jeff Lynne. This line-up is sure to bring you to your feet and keep you there! La Fogata\, Oso Good Dogs and Smart Pizza will be on hand to provide food breaks. \nMore Information is available at https://rockintheriver.net and https://www.facebook.com/rockintheriver/ \nPresented by Russian River Rotary
URL:https://www.oceanworksproductions.com/event/rockin-the-river/
LOCATION:Guerneville Plaza\, Guerneville Plaza\, Guerneville\, CA\, 95446\, United States
CATEGORIES:An OceanWorks Co-Production
ATTACH;FMTTYPE=image/jpeg:https://www.oceanworksproductions.com/wp-content/uploads/2025/06/Ad_RtR2025_HiRes.jpg
END:VEVENT
BEGIN:VEVENT
DTSTART;TZID=America/Los_Angeles:20250828T183000
DTEND;TZID=America/Los_Angeles:20250828T200000
DTSTAMP:20260425T205210
CREATED:20250528T211619Z
LAST-MODIFIED:20250709T224118Z
UID:862-1756405800-1756411200@www.oceanworksproductions.com
SUMMARY:Roy Rogers & The Delta Rhythm Kings
DESCRIPTION:Bay Area’s Great Blues Slide Guitar Master\n“Roy Rogers means the modern master in the art of slide guitar. His versatility with the technique is nothing short of astonishing.” ~ All Music Guide \n “That’s not a slide on Roy Rogers’ pinky; it’s a time machine. With it\, Rogers transports you to the Mississippi Delta’s past and future. – Guitar Playe \nThe 36th Annual Music and Market Series — Summer 2025 \nTodos Santos Plaza\n2175 Willow Pass Rd.\nConcord\, CA \nAugust 28\, 2025\n6:30pm – 8:00pm
URL:https://www.oceanworksproductions.com/event/roy-rogers-and-the-delta-rhythm-kings/
LOCATION:Todos Santos Plaza\, 2175 Willow Pass Rd\, Concord\, CA\, 94520\, United States
CATEGORIES:An OceanWorks Co-Production
ATTACH;FMTTYPE=image/jpeg:https://www.oceanworksproductions.com/wp-content/uploads/2025/05/RJE-and-Roy-Rogers.jpg
END:VEVENT
BEGIN:VEVENT
DTSTART;TZID=America/Los_Angeles:20250821T183000
DTEND;TZID=America/Los_Angeles:20250821T200000
DTSTAMP:20260425T205210
CREATED:20250528T210320Z
LAST-MODIFIED:20250709T224211Z
UID:860-1755801000-1755806400@www.oceanworksproductions.com
SUMMARY:Maya Latin Roots
DESCRIPTION:Latin Dance Grooves with a Salute to Selena\nMaya specializes in high-energy dance performances\, Un-like other tribute bands that stick to one artist\, they bring you the best hits from multiple legends in one show offering a variety tribute show. \n“Our sound\, your soul\, let’s make it unforgettable.” \nThe 36th Annual Music and Market Series — Summer 2025 \nTodos Santos Plaza\n2175 Willow Pass Rd.\nConcord\, CA \nAugust 21\, 2025\n6:30pm – 8:00pm
URL:https://www.oceanworksproductions.com/event/maya-latin-roots/
LOCATION:Todos Santos Plaza\, 2175 Willow Pass Rd\, Concord\, CA\, 94520\, United States
CATEGORIES:An OceanWorks Co-Production
ATTACH;FMTTYPE=image/avif:https://www.oceanworksproductions.com/wp-content/uploads/2025/05/Maya-2025-2_edited.avif
END:VEVENT
BEGIN:VEVENT
DTSTART;TZID=America/Los_Angeles:20250814T183000
DTEND;TZID=America/Los_Angeles:20250814T200000
DTSTAMP:20260425T205210
CREATED:20250528T205955Z
LAST-MODIFIED:20250709T224332Z
UID:858-1755196200-1755201600@www.oceanworksproductions.com
SUMMARY:Zepparella
DESCRIPTION:All-Female Zepplin Powerhouse\nHow to honor the legacy of a band deemed sacred? To tread on holy ground is perilous\, and must be done with the intent and spirit of a disciple—Pay attention to the intricacies of the magic\, explore the far ends of the innovation\, strive for ever-growing ability\, and let the purity of the love for the music drive it all. \nThe 36th Annual Music and Market Series — Summer 2025 \nTodos Santos Plaza\n2175 Willow Pass Rd.\nConcord\, CA \nAugust 14\, 2025\n6:30pm – 8:00pm
URL:https://www.oceanworksproductions.com/event/zepparella/
LOCATION:Todos Santos Plaza\, 2175 Willow Pass Rd\, Concord\, CA\, 94520\, United States
CATEGORIES:An OceanWorks Co-Production
ATTACH;FMTTYPE=image/jpeg:https://www.oceanworksproductions.com/wp-content/uploads/2025/05/Trio1-Mark-Ehrlich.jpg
END:VEVENT
BEGIN:VEVENT
DTSTART;TZID=America/Los_Angeles:20250807T183000
DTEND;TZID=America/Los_Angeles:20250807T200000
DTSTAMP:20260425T205210
CREATED:20250528T204345Z
LAST-MODIFIED:20250709T224432Z
UID:852-1754591400-1754596800@www.oceanworksproductions.com
SUMMARY:The Bell Brothers
DESCRIPTION:Gritty Fusion of Country\, Rock and Americana\nMeet The Bell Brothers\, a dynamic duo whose harmonies and songwriting prowess have resonated with audiences for nearly two decades. Comprised of brothers Russ and Scott\, this powerhouse team has etched their mark on the musical landscape with a fusion of Country\, Rock\, and Americana\, delivering a sound steeped in passion\, musicianship\, and gritty authenticity. \nThe 36th Annual Music and Market Series — Summer 2025 \nTodos Santos Plaza\n2175 Willow Pass Rd.\nConcord\, CA \nAugust 7\, 2025\n6:30pm – 8:00pm
URL:https://www.oceanworksproductions.com/event/the-bell-brothers/
LOCATION:Todos Santos Plaza\, 2175 Willow Pass Rd\, Concord\, CA\, 94520\, United States
CATEGORIES:An OceanWorks Co-Production
ATTACH;FMTTYPE=image/webp:https://www.oceanworksproductions.com/wp-content/uploads/2025/05/thebellbrothers-scaled.webp
END:VEVENT
BEGIN:VEVENT
DTSTART;TZID=America/Los_Angeles:20250731T183000
DTEND;TZID=America/Los_Angeles:20250731T200000
DTSTAMP:20260425T205210
CREATED:20250528T204100Z
LAST-MODIFIED:20250709T224521Z
UID:850-1753986600-1753992000@www.oceanworksproductions.com
SUMMARY:Twist on Taylor
DESCRIPTION:A Tribute to Taylor Swift\nUntil you see her in person\, you cannot appreciate how well Sarah Jessica looks\, sounds and acts like Taylor Swift in concert. \nThe 36th Annual Music and Market Series — Summer 2025 \nTodos Santos Plaza\n2175 Willow Pass Rd.\nConcord\, CA \nJuly 31\, 2025\n6:30pm – 8:00pm
URL:https://www.oceanworksproductions.com/event/twist-on-taylor/
LOCATION:Todos Santos Plaza\, 2175 Willow Pass Rd\, Concord\, CA\, 94520\, United States
CATEGORIES:An OceanWorks Co-Production
ATTACH;FMTTYPE=image/jpeg:https://www.oceanworksproductions.com/wp-content/uploads/2025/05/taylor-swift-tribute-sarah-jessica-min.jpg
END:VEVENT
BEGIN:VEVENT
DTSTART;TZID=America/Los_Angeles:20250724T183000
DTEND;TZID=America/Los_Angeles:20250724T200000
DTSTAMP:20260425T205210
CREATED:20250528T203736Z
LAST-MODIFIED:20250709T224641Z
UID:847-1753381800-1753387200@www.oceanworksproductions.com
SUMMARY:Quattro
DESCRIPTION:Latin and World Beat\nThe 36th Annual Music and Market Series — Summer 2025 \nTodos Santos Plaza\n2175 Willow Pass Rd.\nConcord\, CA \nJuly 24\, 2025\n6:30pm – 8:00pm
URL:https://www.oceanworksproductions.com/event/quattro/
LOCATION:Todos Santos Plaza\, 2175 Willow Pass Rd\, Concord\, CA\, 94520\, United States
CATEGORIES:An OceanWorks Co-Production
ATTACH;FMTTYPE=image/jpeg:https://www.oceanworksproductions.com/wp-content/uploads/2025/05/quattro.jpg
END:VEVENT
BEGIN:VEVENT
DTSTART;TZID=America/Los_Angeles:20250717T183000
DTEND;TZID=America/Los_Angeles:20250717T200000
DTSTAMP:20260425T205210
CREATED:20250528T203758Z
LAST-MODIFIED:20250709T224837Z
UID:846-1752777000-1752782400@www.oceanworksproductions.com
SUMMARY:Ronstadt Retrospective
DESCRIPTION:A Linda Ronstadt Experience\nThe 36th Annual Music and Market Series — Summer 2025 \nTodos Santos Plaza\n2175 Willow Pass Rd.\nConcord\, CA \nJuly 17\, 2025\n6:30pm – 8:00pm
URL:https://www.oceanworksproductions.com/event/ronstadt-retrospective/
LOCATION:Todos Santos Plaza\, 2175 Willow Pass Rd\, Concord\, CA\, 94520\, United States
CATEGORIES:An OceanWorks Co-Production
END:VEVENT
BEGIN:VEVENT
DTSTART;VALUE=DATE:20250712
DTEND;VALUE=DATE:20250713
DTSTAMP:20260425T205210
CREATED:20250616T171043Z
LAST-MODIFIED:20250826T174307Z
UID:919-1752278400-1752364799@www.oceanworksproductions.com
SUMMARY:High Rio - Music on the Green
DESCRIPTION:Featuring local music\, food\, beer\, art\, local vendors & good vibes at the Monte Rio Theater. \nHigh Rio isn’t just a grassroots music festival — it’s a Russian River fever dream stitched together with guitar strings and sunbeams. Food sizzling\, kids doing cartwheels in the grass\, the air thick with harmonies and something…herbal. Local bands — the real deal. The kind of sundrenched summer magic only a river town can conjure. \nWe’re talkin’ bare feet in the grass\, dancing with strangers\, kissing under redwoods\, the whole beautiful mess of humanity celebrating our favorite place Monte Rio — the beating heart of summer. Every amp turned up is a vote for the community. Every note played is a celebration of small-town soul. \nSo come on down to The Monte Rio Theater & Extravaganza\, bring your weird uncle\, your tambourine\, your sunhat and your dancing shoes. High Rio’s calling — and it ain’t leavin’ a voicemail. \nDate and time: Saturday\, July 12 · 12 – 10pm PDT \nLocation: Monte Rio Theater & Extravaganza\n20396 Bohemian Highway Monte Rio\, CA 95462 \nTickets: https://www.eventbrite.com/e/high-rio-music-on-the-green-tickets-1406604414669 \nEvent Website: www.highrio.com points to https://www.prettyboychance.com/highrio \nMore Info: https://www.facebook.com/profile.php?id=61577152955849 \nFB Event Page: https://www.facebook.com/events/1890758861685795
URL:https://www.oceanworksproductions.com/event/high-rio/
LOCATION:Monte Rio Theater\, 20396 Bohemian Hwy\, Monte Rio\, CA\, 95462\, United States
CATEGORIES:A “Jim Ocean Music” Production,An OceanWorks Co-Production,JOB,JOM
ATTACH;FMTTYPE=image/jpeg:https://www.oceanworksproductions.com/wp-content/uploads/2025/06/HighRio_01-scaled.jpg
END:VEVENT
BEGIN:VEVENT
DTSTART;TZID=America/Los_Angeles:20250710T190000
DTEND;TZID=America/Los_Angeles:20250710T230000
DTSTAMP:20260425T205210
CREATED:20250616T170505Z
LAST-MODIFIED:20250826T174315Z
UID:915-1752174000-1752188400@www.oceanworksproductions.com
SUMMARY:Nashville Writers Row
DESCRIPTION:LIKE HEARTED ARTISTS and HOPMONK TAVERN\, NOVATO are thrilled to present: \nNashville Writers Row\nAn intimate\, evocative Nashville-style Writer’s Row hosted by Nashville’s own\, Robby Hecht. \nROBBY HECHT is a touring singer-songwriter combining quietly insightful lyricism (think Tom Waits) with graceful vocal resonance (James Taylor) who will lead this powerhouse group of local \nand Nashville artists for a double round of original songs and once-in-a-lifetime collaborations with a show that is sure to inspire\, captivate and leave the audience wanting more. \nJoining Robby on stage . . . \nMELODY WALKER: Grammy winner (American Dreaming with Sierra Ferrell)\, lead singer of Bertha Grateful Drag\, songwriter\, producer\, and performer making a rare appearance back in her beloved home state\, sharing her fervent belief that songs can change the world! \nDAVE NACHMANOFF: talented and prolific singer-songwriter\, producer\, professor and long-standing lead guitarist for Al Stewart \nERIKA TIETJEN of the T-Sisters\, a 3-sister eclectic folk trio distinguished by close harmonies\, catchy melodies and potent lyricism \nSARAH LARKIN & SARAH RYAN\, skillful harmony singers with evocative songs that will enchant and uplift \nDAVE PASCOE & LAURA BENSON of Late for the Train: American Roots music\, educators and storytellers who fuse with it the musicality of energetic jamgrass to grapple with the complexities of modern living \nJIM AND KATHY OCEAN from the Jim Ocean Band are iconic performers and writers (John Lennon’s Glasses) who take listeners on folk-rocking romps through the wonders and quandaries of being human \nAll 10 of these artists are sure to entertain with fresh\, thoughtful\, intelligent songs\, powerful instrumentation\, and stories that will stick to your heart like sweet treats long after their intimate\, authentic offerings stir you. \nThis show is NOT to be missed and is expected to sell out. \nFB Event Page: https://www.facebook.com/events/645528985206251 \nTickets: https://wl.seetickets.us/event/nashville-writers-row/654002?afflky=HopMonkNovato&nts_trk=bc3a4b76-ed64-4d15-a875-8f796e4b2f52&fbclid=IwY2xjawK_8A9leHRuA2FlbQIxMABicmlkETBKcXdCZVlBeTlEd0RCNkp3AR5Hpuh03g14PXgZ_sGbMu1ETynowemaRo-zqaLeqKIY69gALQZW0piWjIXPEA_aem_d1vHJOnZAuFlYiDr9iHVjw
URL:https://www.oceanworksproductions.com/event/nashville-writers-row/
LOCATION:HopMonk Tavern\, 224 Vintage Way\, Novato\, CA\, 94945\, United States
CATEGORIES:A “Jim Ocean Music” Production,An OceanWorks Co-Production,JOM
ATTACH;FMTTYPE=image/jpeg:https://www.oceanworksproductions.com/wp-content/uploads/2025/06/Graphic_2025_07-10_Hopmonk.jpg
END:VEVENT
BEGIN:VEVENT
DTSTART;TZID=America/Los_Angeles:20250710T183000
DTEND;TZID=America/Los_Angeles:20250710T200000
DTSTAMP:20260425T205210
CREATED:20250528T203150Z
LAST-MODIFIED:20250709T224938Z
UID:843-1752172200-1752177600@www.oceanworksproductions.com
SUMMARY:David Martin's House Party
DESCRIPTION:Classic Rock Hits From the 60’s to Now\nDavid Martin’s House Party is one of the premier party bands to emerge from the San Francisco Bay Area in the past twenty years. \nThe 36th Annual Music and Market Series — Summer 2025 \nTodos Santos Plaza\n2175 Willow Pass Rd.\nConcord\, CA \nJuly 10\, 2025\n6:30pm – 8:00pm
URL:https://www.oceanworksproductions.com/event/david-martins-house-party/
LOCATION:Todos Santos Plaza\, 2175 Willow Pass Rd\, Concord\, CA\, 94520\, United States
CATEGORIES:An OceanWorks Co-Production
ATTACH;FMTTYPE=image/webp:https://www.oceanworksproductions.com/wp-content/uploads/2025/05/david-martins-house-party.webp
END:VEVENT
BEGIN:VEVENT
DTSTART;TZID=America/Los_Angeles:20250703T183000
DTEND;TZID=America/Los_Angeles:20250703T200000
DTSTAMP:20260425T205210
CREATED:20250528T202907Z
LAST-MODIFIED:20250709T225036Z
UID:841-1751567400-1751572800@www.oceanworksproductions.com
SUMMARY:The New Frantics
DESCRIPTION:Contra Costa’s Favorite Party Band\nThe 36th Annual Music and Market Series — Summer 2025. \n\nMovement is the foundation of life!  That’s why TNF LOVES when we have DANCING goin’ on! \nBringing classic rock\, modern rock\, groove\, soul\, R&B\, funk…the 5 musicians in The New Frantics ALL provide creative input to create dynamic sets to thrill audiences of all ages and genres. \n\nTodos Santos Plaza\n2175 Willow Pass Rd.\nConcord\, CA \nJuly 3\, 2025\n6:30pm – 8:00pm
URL:https://www.oceanworksproductions.com/event/the-new-frantics/
LOCATION:Todos Santos Plaza\, 2175 Willow Pass Rd\, Concord\, CA\, 94520\, United States
CATEGORIES:An OceanWorks Co-Production
ATTACH;FMTTYPE=image/webp:https://www.oceanworksproductions.com/wp-content/uploads/2025/05/newfrantics.webp
END:VEVENT
BEGIN:VEVENT
DTSTART;TZID=America/Los_Angeles:20250626T183000
DTEND;TZID=America/Los_Angeles:20250626T200000
DTSTAMP:20260425T205210
CREATED:20250528T202116Z
LAST-MODIFIED:20250709T225225Z
UID:839-1750962600-1750968000@www.oceanworksproductions.com
SUMMARY:2Z
DESCRIPTION:Brilliant K-Pop Band on Tour from S. Korea\nThe 36th Annual Music and Market Series — Summer 2025 \nTodos Santos Plaza\n2175 Willow Pass Rd.\nConcord\, CA \nJune 26\, 2025\n6:30pm – 8:00pm
URL:https://www.oceanworksproductions.com/event/2z/
LOCATION:Todos Santos Plaza\, 2175 Willow Pass Rd\, Concord\, CA\, 94520\, United States
CATEGORIES:An OceanWorks Co-Production
ATTACH;FMTTYPE=image/jpeg:https://www.oceanworksproductions.com/wp-content/uploads/2025/05/2z-members.jpg
END:VEVENT
BEGIN:VEVENT
DTSTART;TZID=America/Los_Angeles:20250622T160000
DTEND;TZID=America/Los_Angeles:20250622T180000
DTSTAMP:20260425T205210
CREATED:20250528T204914Z
LAST-MODIFIED:20250826T174333Z
UID:854-1750608000-1750615200@www.oceanworksproductions.com
SUMMARY:It's Another "Birthday Bash" Show with The Jim Ocean Band
DESCRIPTION:A celebration for the band’s June babies! We look forward to dishing up a selection of our original thought-rock fare along with a few tasty covers for your listening and cupcake eating pleasure! \nSunday\, June 22\, 2025 \nLuigi’s Deli Martinez\n4 – 6 PM \n$10 Donation \nA Production of Scotty’s Listening Room
URL:https://www.oceanworksproductions.com/event/its-another-birthday-bash-show-with-the-jim-ocean-band/
LOCATION:Luigi’s in Martinez\, 537 Main Street\, Martinez\, CA\, 94553\, United States
CATEGORIES:A “Jim Ocean Music” Production,JOB,JOM
ATTACH;FMTTYPE=image/jpeg:https://www.oceanworksproductions.com/wp-content/uploads/2025/05/Graphic_2025_06-22_Luigis.jpeg
END:VEVENT
BEGIN:VEVENT
DTSTART;TZID=America/Los_Angeles:20250619T183000
DTEND;TZID=America/Los_Angeles:20250619T200000
DTSTAMP:20260425T205210
CREATED:20250528T201534Z
LAST-MODIFIED:20250709T225301Z
UID:837-1750357800-1750363200@www.oceanworksproductions.com
SUMMARY:Pop Rocks
DESCRIPTION:Bay Area’s Ultimate Dance Party Band–80’s and Up\nThe 36th Annual Music and Market Series — Summer 2025 \nTodos Santos Plaza\n2175 Willow Pass Rd.\nConcord\, CA \nJune 19\, 2025\n6:30pm – 8:00pm
URL:https://www.oceanworksproductions.com/event/pop-rocks/
LOCATION:Todos Santos Plaza\, 2175 Willow Pass Rd\, Concord\, CA\, 94520\, United States
CATEGORIES:An OceanWorks Co-Production
ATTACH;FMTTYPE=image/webp:https://www.oceanworksproductions.com/wp-content/uploads/2025/05/poprocks-scaled.webp
END:VEVENT
BEGIN:VEVENT
DTSTART;TZID=America/Los_Angeles:20250612T183000
DTEND;TZID=America/Los_Angeles:20250612T200000
DTSTAMP:20260425T205210
CREATED:20250527T224604Z
LAST-MODIFIED:20250709T225405Z
UID:835-1749753000-1749758400@www.oceanworksproductions.com
SUMMARY:The Sun Kings
DESCRIPTION:A Beatles Tribute as Nature Intended\nThe 36th Annual Music and Market Series — Summer 2025 \nTodos Santos Plaza\n2175 Willow Pass Rd.\nConcord\, CA \nJune 12\, 2025\n6:30pm – 8:00pm
URL:https://www.oceanworksproductions.com/event/the-sun-kings/
LOCATION:Todos Santos Plaza\, 2175 Willow Pass Rd\, Concord\, CA\, 94520\, United States
CATEGORIES:An OceanWorks Co-Production
ATTACH;FMTTYPE=image/jpeg:https://www.oceanworksproductions.com/wp-content/uploads/2025/05/sunkings.jpg
END:VEVENT
BEGIN:VEVENT
DTSTART;TZID=America/Los_Angeles:20250605T183000
DTEND;TZID=America/Los_Angeles:20250605T200000
DTSTAMP:20260425T205210
CREATED:20250527T223750Z
LAST-MODIFIED:20250709T225506Z
UID:831-1749148200-1749153600@www.oceanworksproductions.com
SUMMARY:Tom Rigney and Flambeau
DESCRIPTION:Fiery New Orleans Grooves\nFree concert series in downtown Concord–Summer Music and Market Series! Always a great place to hear the band. \nTodos Santos Plaza\n2175 Willow Pass Rd.\nConcord\, CA \nJune 5\, 2025\n6:30-8:00 pm. \nFree admission.
URL:https://www.oceanworksproductions.com/event/tom-rigney-and-flambeau/
LOCATION:Todos Santos Plaza\, 2175 Willow Pass Rd\, Concord\, CA\, 94520\, United States
CATEGORIES:An OceanWorks Co-Production
ATTACH;FMTTYPE=image/jpeg:https://www.oceanworksproductions.com/wp-content/uploads/2025/05/RW3B0180-1.jpg
END:VEVENT
BEGIN:VEVENT
DTSTART;TZID=America/Los_Angeles:20250503T180000
DTEND;TZID=America/Los_Angeles:20250503T200000
DTSTAMP:20260425T205210
CREATED:20250409T165735Z
LAST-MODIFIED:20250409T165735Z
UID:509-1746295200-1746302400@www.oceanworksproductions.com
SUMMARY:A "John Lennon's Glasses" author event with Jim and Kathy Ocean
DESCRIPTION:Mark your calendar for a 30-minute performance with words and music from John Lennon’s Glasses followed by a book signing and reception. Local wine and bites available for purchase.
URL:https://www.oceanworksproductions.com/event/a-john-lennons-glasses-author-event-with-jim-and-kathy-ocean/
LOCATION:Local…ish\, 12060 Pocket Canyon Hwy\, Guerneville\, CA\, 95446\, United States
CATEGORIES:A "John Lennon's Glasses" Event,Master
ATTACH;FMTTYPE=image/png:https://www.oceanworksproductions.com/wp-content/uploads/2025/02/KOcean-IMG_7096-gs_grey.png
ORGANIZER;CN="Jim and Kathy Ocean":MAILTO:info@oceanworksproductions.com
END:VEVENT
BEGIN:VEVENT
DTSTART;TZID=America/Los_Angeles:20250426T100000
DTEND;TZID=America/Los_Angeles:20250426T160000
DTSTAMP:20260425T205210
CREATED:20250409T170507Z
LAST-MODIFIED:20250826T174359Z
UID:513-1745661600-1745683200@www.oceanworksproductions.com
SUMMARY:The Jim Ocean Band at John Muir Birthday/Earth Day Celebration
DESCRIPTION:The Jim Ocean Band will perform a set of music from their eco-rock album\, FrankenClime. Set time to be announced.
URL:https://www.oceanworksproductions.com/event/the-jim-ocean-band-at-john-muir-birthday-earth-day-celebration/
LOCATION:John Muir National Historic Site\, 4202 Alhambra Ave\, Martinez\, CA\, 94553\, United States
CATEGORIES:A “Jim Ocean Music” Production,JOB,Master
ATTACH;FMTTYPE=image/jpeg:https://www.oceanworksproductions.com/wp-content/uploads/2024/09/IMG_6758b.jpg
ORGANIZER;CN="Jim and Kathy Ocean":MAILTO:info@oceanworksproductions.com
END:VEVENT
BEGIN:VEVENT
DTSTART;TZID=America/Los_Angeles:20250424T180000
DTEND;TZID=America/Los_Angeles:20250424T200000
DTSTAMP:20260425T205210
CREATED:20250409T170007Z
LAST-MODIFIED:20250826T174406Z
UID:511-1745517600-1745524800@www.oceanworksproductions.com
SUMMARY:A duo performance by Jim and Kathy Ocean
DESCRIPTION:Jim and Kathy Ocean will perform acoustic versions of their original thought-rock songs as well as other music to munch by.
URL:https://www.oceanworksproductions.com/event/a-duo-performance-by-jim-and-kathy-ocean/
LOCATION:Roxx on Main\, 627 Main Street\, Martinez\, CA\, 94553\, United States
CATEGORIES:A “Jim Ocean Music” Production,Master
ATTACH;FMTTYPE=image/jpeg:https://www.oceanworksproductions.com/wp-content/uploads/2025/03/JK_Driftwood-scaled.jpg
ORGANIZER;CN="Jim and Kathy Ocean":MAILTO:info@oceanworksproductions.com
END:VEVENT
BEGIN:VEVENT
DTSTART;TZID=America/Los_Angeles:20250409T080000
DTEND;TZID=America/Los_Angeles:20250409T170000
DTSTAMP:20260425T205210
CREATED:20250409T171431Z
LAST-MODIFIED:20250826T174412Z
UID:515-1744185600-1744218000@www.oceanworksproductions.com
SUMMARY:A Jim Ocean Band Birthday Bash at Luigi’s Martinez
DESCRIPTION:The Jim Ocean Band continues its popular new tradition of celebrating band member birthdays as part of Scotty O’s Listening Room Series at Luigi’s. This time we’re celebrating the June birthdays of drummer\, Robert Montes\, and electric guitarist\, Ron Rossi.
URL:https://www.oceanworksproductions.com/event/a-jim-ocean-band-birthday-bash-at-luigis-martinez/
LOCATION:Luigi’s in Martinez\, 537 Main Street\, Martinez\, CA\, 94553\, United States
CATEGORIES:A “Jim Ocean Music” Production,JOB,Master
ATTACH;FMTTYPE=image/jpeg:https://www.oceanworksproductions.com/wp-content/uploads/2024/09/JimOceanBand.jpg
ORGANIZER;CN="Jim and Kathy Ocean":MAILTO:info@oceanworksproductions.com
END:VEVENT
BEGIN:VEVENT
DTSTART;TZID=UTC:20250320T180000
DTEND;TZID=UTC:20250320T230000
DTSTAMP:20260425T205210
CREATED:20241119T051411Z
LAST-MODIFIED:20250826T174419Z
UID:256-1742493600-1742511600@www.oceanworksproductions.com
SUMMARY:"John Lennon's Glasses" Book Launch Party
DESCRIPTION:It’s a Birthday Party! \nIt’s a Book Release!! \nIt’s the JIM OCEAN BAND!!! \nHigh-Energy Original Thought Rock\nThursday\, March 20th\n6:00PM\n$10 Donation \nLuigi’s in Martinez\n537 Main Street \nCome celebrate our book launch and bass man Steven Sauvain’s brithday! \nGet your signed copy of Jim’s new book!
URL:https://www.oceanworksproductions.com/event/john-lennons-glasses-book-launch-party/
LOCATION:Luigi’s in Martinez\, 537 Main Street\, Martinez\, CA\, 94553\, United States
CATEGORIES:A "John Lennon's Glasses" Event,A “Jim Ocean Music” Production,Book Signing Event,JOB,Master
ATTACH;FMTTYPE=image/jpeg:https://www.oceanworksproductions.com/wp-content/uploads/2024/11/Postcard_2025_03-20_Luigis.jpg
ORGANIZER;CN="Jim and Kathy Ocean":MAILTO:info@oceanworksproductions.com
END:VEVENT
END:VCALENDAR